BEGIN:VCALENDAR
VERSION:2.0
PRODID:-//ChamberMaster//Event Calendar 2.0//EN
METHOD:PUBLISH
X-PUBLISHED-TTL:P3D
REFRESH-INTERVAL:P3D
CALSCALE:GREGORIAN
BEGIN:VEVENT
DTSTART:20221110T170000Z
DTEND:20221110T174500Z
X-MICROSOFT-CDO-ALLDAYEVENT:FALSE
SUMMARY:Capelli's Celebration
DESCRIPTION:Capelli's Celebration
X-ALT-DESC;FMTTYPE=text/html:Capelli&#39\;s Celebration
LOCATION:Capelli's Salon on Market Street
UID:e.3355.137
SEQUENCE:3
DTSTAMP:20260425T183832Z
URL:http://wbcchamber.chambermaster.com/events/details/capelli-s-celebration-137
END:VEVENT

END:VCALENDAR
